BEGIN:VCALENDAR
VERSION:2.0
PRODID:-//Knoxville Symphony Orchestra - ECPv6.15.20//NONSGML v1.0//EN
CALSCALE:GREGORIAN
METHOD:PUBLISH
X-WR-CALNAME:Knoxville Symphony Orchestra
X-ORIGINAL-URL:https://dining.knoxvillesymphony.com
X-WR-CALDESC:Events for Knoxville Symphony Orchestra
REFRESH-INTERVAL;VALUE=DURATION:PT1H
X-Robots-Tag:noindex
X-PUBLISHED-TTL:PT1H
BEGIN:VTIMEZONE
TZID:America/New_York
BEGIN:DAYLIGHT
TZOFFSETFROM:-0500
TZOFFSETTO:-0400
TZNAME:EDT
DTSTART:20210314T070000
END:DAYLIGHT
BEGIN:STANDARD
TZOFFSETFROM:-0400
TZOFFSETTO:-0500
TZNAME:EST
DTSTART:20211107T060000
END:STANDARD
BEGIN:DAYLIGHT
TZOFFSETFROM:-0500
TZOFFSETTO:-0400
TZNAME:EDT
DTSTART:20220313T070000
END:DAYLIGHT
BEGIN:STANDARD
TZOFFSETFROM:-0400
TZOFFSETTO:-0500
TZNAME:EST
DTSTART:20221106T060000
END:STANDARD
BEGIN:DAYLIGHT
TZOFFSETFROM:-0500
TZOFFSETTO:-0400
TZNAME:EDT
DTSTART:20230312T070000
END:DAYLIGHT
BEGIN:STANDARD
TZOFFSETFROM:-0400
TZOFFSETTO:-0500
TZNAME:EST
DTSTART:20231105T060000
END:STANDARD
END:VTIMEZONE
BEGIN:VEVENT
DTSTART;TZID=America/New_York:20221215T180000
DTEND;TZID=America/New_York:20221215T200000
DTSTAMP:20260419T091750
CREATED:20220927T205122Z
LAST-MODIFIED:20221019T160025Z
UID:6656-1671127200-1671134400@dining.knoxvillesymphony.com
SUMMARY:A Christmas Celebration to Remember
DESCRIPTION:Dr. George and Julia Shiflett invite you to their country estate for an evening of holiday music\, delicious foods\, and fabulous decorations. Walk through the spacious home to discover over a dozen decorated trees\, including a blown glass tree\, a woodland tree\, a snow tree\, a musical-themed tree\, and\, of course\, a Tennessee tree! \nMark Boling along with four musicians and a singer will begin the evening with holiday music to put you in the seasonal mood. The orchestra will then entertain you with many familiar songs made famous by Frank Sinatra\, Tony Bennett\, and Julie London\, to name a few! \nThe Shiflett’s extensive art collection and their lighted herb and English gardens are not to be missed! \nMenu \nA Sumptuous Buffet by Rothschild Catering\nAn Open Bar \nYour Hosts \nDr. George and Julia Shiflett
URL:https://dining.knoxvillesymphony.com/event/a-christmas-celebration-to-remember-2/
LOCATION:9008 Madison Lane\, 9008 Madison Lane\, Knoxville\, TN\, United States
CATEGORIES:Elegant Dining
END:VEVENT
BEGIN:VEVENT
DTSTART;TZID=America/New_York:20221213T110000
DTEND;TZID=America/New_York:20221213T140000
DTSTAMP:20260419T091750
CREATED:20220927T165524Z
LAST-MODIFIED:20221003T175540Z
UID:6639-1670929200-1670940000@dining.knoxvillesymphony.com
SUMMARY:KSL Luncheon: Tinsel\, Tidings & Tea
DESCRIPTION:Join us and sample all the delicious goodies Mrs. Claus and her trusty elves have prepared for our Christmas Tea. While Santa has been busy checking the naughty and nice list\, Mrs. C. has been hard at work in the kitchen. So take a break from all the hustle and bustle of the season\, sit down with friends\, relax\, and enjoy a warm cup of tea at Cherokee. And since Mrs. C. couldn’t do it all (she is getting on in years\, as you know)\, she has asked 10 of our KSL members to decorate their tables in the spirit of the holiday. We know you’ll be anxious to see how these talented ladies transform Cherokee into a Christmas wonderland (and maybe get a few ideas for your own holiday table… Santa says it’s not cheating!).
URL:https://dining.knoxvillesymphony.com/event/tinsel-tidings-tea/
LOCATION:Cherokee Country Club\, 5138 Lyons View Pike\, Knoxville\, TN\, 37919\, United States
CATEGORIES:Luncheons
ORGANIZER;CN="Diana Zeltner":MAILTO:dianazeltner@aol.com
END:VEVENT
BEGIN:VEVENT
DTSTART;TZID=America/New_York:20221204T183000
DTEND;TZID=America/New_York:20221204T203000
DTSTAMP:20260419T091750
CREATED:20220927T204634Z
LAST-MODIFIED:20221117T163429Z
UID:6653-1670178600-1670185800@dining.knoxvillesymphony.com
SUMMARY:Christmas at Historic Middlebrook
DESCRIPTION:“City sidewalks\, busy sidewalks\, dressed in holiday style. In the air\, there’s a feeling of Christmas. Children laughing\, people passing meeting smile after smile and on every street corner you hear”…”Another Tender Tennessee Christmas\, the only Christmas for me…” \nFamiliar holiday music\, as played by Slade Trammell\, will sound throughout the Historic Middlebrook home of Rick Fox and Ralph Cianelli. Slade’s performance is thanks to the generosity of Elizabeth Offringa. \nJoin us for an evening in this home beautifully decorated for Christmas. Enjoy the music of the season and a holiday buffet prepared by some of the finest culinary artists in the Knoxville Symphony League. \nMenu \nA Candlelight Buffet of Heavy Hors D’oeuvres\nWine and Tea \nYour Hosts \nElizabeth Grant\, Harriet Hodge\, Elizabeth Offringa\, Jane Venable\, Edie Volk\, Karen Weimann\, Diana Zeltner
URL:https://dining.knoxvillesymphony.com/event/christmas-at-historic-middlebrook-2/
LOCATION:4001 Middlebrook Pike\, 4001 Middlebrook Pike\, Knoxville\, TN\, United States
CATEGORIES:Elegant Dining
END:VEVENT
BEGIN:VEVENT
DTSTART;TZID=America/New_York:20221117T163000
DTEND;TZID=America/New_York:20221117T190000
DTSTAMP:20260419T091750
CREATED:20220927T202321Z
LAST-MODIFIED:20221026T190428Z
UID:6648-1668702600-1668711600@dining.knoxvillesymphony.com
SUMMARY:A Gem of a Time
DESCRIPTION:Experience a private treasure tour through Jewelry Television World Headquarters! This incredible event will begin with your tour guide explaining the phenomenal history of how this company launched one of the world’s largest selections of fine jewelry and gemstones. Enjoy observing a JTV host in the studio broadcasting a live production that reaches 86 million households daily. Then we proceed to the Customer Care Calling Center and on to the Buying Area where decisions are made concerning product purchases and promotions. Finally\, witness JTV’s order processing known as the Fulfillment Area. To further enhance your experience\, and just in time to get your Christmas Sparkle\, there will be 2 trunk shows for your viewing – PiyaRo Sterling Silver with 14K gold and a Vintage Jewelry show. As an added benefit\, you will also receive a 20% off the regular price of jewelry at The Gemstore. \nNote: Parking is limited at JTV World Headquarters\, so we will meet at 4:45 p.m. at The Gemstore\, 9933 Kingston Pike\, and then carpool over to the JTV Campus for the tour. Your private tour will conclude by 6:00 p.m. when you will return to The Gemstore to enjoy hors d’oeuvres and wine as you shop for yourself or others – keeping in mind that the holidays are just around the corner! Do not forget to sign up for door prizes provided by The Gemstore! \n  \nMenu \nHeavy Hors D’oeuvres\nWine Bar \nYour Hosts \nKim Cunningham\, Harriet Hodge\, Linda Haynes\, Alice Rotar\, Jane Venable \n 
URL:https://dining.knoxvillesymphony.com/event/a-gem-of-a-time/
LOCATION:The Gemstore\, 9933 Kingston Pike\, Knoxville\, TN\, 37922\, United States
CATEGORIES:Elegant Dining
END:VEVENT
BEGIN:VEVENT
DTSTART;TZID=America/New_York:20221116T110000
DTEND;TZID=America/New_York:20221116T140000
DTSTAMP:20260419T091750
CREATED:20220927T165234Z
LAST-MODIFIED:20221117T163400Z
UID:6637-1668596400-1668607200@dining.knoxvillesymphony.com
SUMMARY:KSL Luncheon: Grateful • Thankful • Blessed
DESCRIPTION:Join us at Cherokee for a luncheon to welcome the upcoming holiday season. Faithful to the Thanksgiving tradition of a bountiful harvest\, delicious food\, and friends and family\, our tables will be decked out for the holiday\, the Club will serve us a delicious lunch\, and you will complete it by providing the friends and family. And for your listening enjoyment\, Ethan Sharp\, a cellist with the Knoxville Symphony Youth Orchestra\, will be performing “Hungarian Rhapsody” by David Popper. So let us gather and celebrate in the true spirit of Thanksgiving. One where we are all Grateful\, Thankful\, and Blessed. \nMenu \nFiji Salad\nMixed greens with crisp apples\, walnuts\, crumbled feta cheese\, dried cranberries\, and apple cider vinaigrette \nCherokee Chicken Boursin\nA luscious chicken breast stuffed with Boursin cheese\, topped with herbed bread crumbs\, wild mushroom sauce\, and served with wild rice and haricot vert \nCherry Cobbler served with a dollop of fresh whipped cream \n 
URL:https://dining.knoxvillesymphony.com/event/grateful-thankful-blessed/
LOCATION:Cherokee Country Club\, 5138 Lyons View Pike\, Knoxville\, TN\, 37919\, United States
CATEGORIES:Luncheons
ORGANIZER;CN="Diana Zeltner":MAILTO:dianazeltner@aol.com
END:VEVENT
END:VCALENDAR