BEGIN:VCALENDAR
VERSION:2.0
PRODID:-//Knoxville Symphony Orchestra - ECPv6.15.20//NONSGML v1.0//EN
CALSCALE:GREGORIAN
METHOD:PUBLISH
X-WR-CALNAME:Knoxville Symphony Orchestra
X-ORIGINAL-URL:https://dining.knoxvillesymphony.com
X-WR-CALDESC:Events for Knoxville Symphony Orchestra
REFRESH-INTERVAL;VALUE=DURATION:PT1H
X-Robots-Tag:noindex
X-PUBLISHED-TTL:PT1H
BEGIN:VTIMEZONE
TZID:America/New_York
BEGIN:DAYLIGHT
TZOFFSETFROM:-0500
TZOFFSETTO:-0400
TZNAME:EDT
DTSTART:20210314T070000
END:DAYLIGHT
BEGIN:STANDARD
TZOFFSETFROM:-0400
TZOFFSETTO:-0500
TZNAME:EST
DTSTART:20211107T060000
END:STANDARD
BEGIN:DAYLIGHT
TZOFFSETFROM:-0500
TZOFFSETTO:-0400
TZNAME:EDT
DTSTART:20220313T070000
END:DAYLIGHT
BEGIN:STANDARD
TZOFFSETFROM:-0400
TZOFFSETTO:-0500
TZNAME:EST
DTSTART:20221106T060000
END:STANDARD
BEGIN:DAYLIGHT
TZOFFSETFROM:-0500
TZOFFSETTO:-0400
TZNAME:EDT
DTSTART:20230312T070000
END:DAYLIGHT
BEGIN:STANDARD
TZOFFSETFROM:-0400
TZOFFSETTO:-0500
TZNAME:EST
DTSTART:20231105T060000
END:STANDARD
END:VTIMEZONE
BEGIN:VEVENT
DTSTART;TZID=America/New_York:20221117T163000
DTEND;TZID=America/New_York:20221117T190000
DTSTAMP:20260419T105924
CREATED:20220927T202321Z
LAST-MODIFIED:20221026T190428Z
UID:6648-1668702600-1668711600@dining.knoxvillesymphony.com
SUMMARY:A Gem of a Time
DESCRIPTION:Experience a private treasure tour through Jewelry Television World Headquarters! This incredible event will begin with your tour guide explaining the phenomenal history of how this company launched one of the world’s largest selections of fine jewelry and gemstones. Enjoy observing a JTV host in the studio broadcasting a live production that reaches 86 million households daily. Then we proceed to the Customer Care Calling Center and on to the Buying Area where decisions are made concerning product purchases and promotions. Finally\, witness JTV’s order processing known as the Fulfillment Area. To further enhance your experience\, and just in time to get your Christmas Sparkle\, there will be 2 trunk shows for your viewing – PiyaRo Sterling Silver with 14K gold and a Vintage Jewelry show. As an added benefit\, you will also receive a 20% off the regular price of jewelry at The Gemstore. \nNote: Parking is limited at JTV World Headquarters\, so we will meet at 4:45 p.m. at The Gemstore\, 9933 Kingston Pike\, and then carpool over to the JTV Campus for the tour. Your private tour will conclude by 6:00 p.m. when you will return to The Gemstore to enjoy hors d’oeuvres and wine as you shop for yourself or others – keeping in mind that the holidays are just around the corner! Do not forget to sign up for door prizes provided by The Gemstore! \n  \nMenu \nHeavy Hors D’oeuvres\nWine Bar \nYour Hosts \nKim Cunningham\, Harriet Hodge\, Linda Haynes\, Alice Rotar\, Jane Venable \n 
URL:https://dining.knoxvillesymphony.com/event/a-gem-of-a-time/
LOCATION:The Gemstore\, 9933 Kingston Pike\, Knoxville\, TN\, 37922\, United States
CATEGORIES:Elegant Dining
END:VEVENT
BEGIN:VEVENT
DTSTART;TZID=America/New_York:20221116T110000
DTEND;TZID=America/New_York:20221116T140000
DTSTAMP:20260419T105924
CREATED:20220927T165234Z
LAST-MODIFIED:20221117T163400Z
UID:6637-1668596400-1668607200@dining.knoxvillesymphony.com
SUMMARY:KSL Luncheon: Grateful • Thankful • Blessed
DESCRIPTION:Join us at Cherokee for a luncheon to welcome the upcoming holiday season. Faithful to the Thanksgiving tradition of a bountiful harvest\, delicious food\, and friends and family\, our tables will be decked out for the holiday\, the Club will serve us a delicious lunch\, and you will complete it by providing the friends and family. And for your listening enjoyment\, Ethan Sharp\, a cellist with the Knoxville Symphony Youth Orchestra\, will be performing “Hungarian Rhapsody” by David Popper. So let us gather and celebrate in the true spirit of Thanksgiving. One where we are all Grateful\, Thankful\, and Blessed. \nMenu \nFiji Salad\nMixed greens with crisp apples\, walnuts\, crumbled feta cheese\, dried cranberries\, and apple cider vinaigrette \nCherokee Chicken Boursin\nA luscious chicken breast stuffed with Boursin cheese\, topped with herbed bread crumbs\, wild mushroom sauce\, and served with wild rice and haricot vert \nCherry Cobbler served with a dollop of fresh whipped cream \n 
URL:https://dining.knoxvillesymphony.com/event/grateful-thankful-blessed/
LOCATION:Cherokee Country Club\, 5138 Lyons View Pike\, Knoxville\, TN\, 37919\, United States
CATEGORIES:Luncheons
ORGANIZER;CN="Diana Zeltner":MAILTO:dianazeltner@aol.com
END:VEVENT
END:VCALENDAR